BEGIN:VCALENDAR
VERSION:2.0
PRODID:-//wp-events-plugin.com//7.2.3.1//EN
TZID:America/Chicago
X-WR-TIMEZONE:America/Chicago
BEGIN:VEVENT
UID:17@vwclub.org
DTSTART;TZID=America/Chicago:20250803T080000
DTEND;TZID=America/Chicago:20250803T170000
DTSTAMP:20250626T212434Z
URL:https://vwclub.org/events/34th-annual-vintage-transport-extravaganza/
SUMMARY:34th Annual Vintage Transport Extravaganza
DESCRIPTION:Illinois Railway Museum\, 7000 Olson Road\, Union\, IL
END:VEVENT
BEGIN:VTIMEZONE
TZID:America/Chicago
X-LIC-LOCATION:America/Chicago
BEGIN:DAYLIGHT
DTSTART:20250309T030000
TZOFFSETFROM:-0600
TZOFFSETTO:-0500
TZNAME:CDT
END:DAYLIGHT
END:VTIMEZONE
END:VCALENDAR