BEGIN:VCALENDAR
VERSION:2.0
PRODID:-//wp-events-plugin.com//7.2.3.1//EN
TZID:America/Chicago
X-WR-TIMEZONE:America/Chicago
BEGIN:VEVENT
UID:12@vwclub.org
DTSTART;TZID=America/Chicago;VALUE=DATE:20250606
DTEND;TZID=America/Chicago;VALUE=DATE:20250610
DTSTAMP:20250330T214653Z
URL:https://vwclub.org/events/6th-annual-vw-campout/
SUMMARY:6TH Annual VW Campout
DESCRIPTION:Lowden State Park\, 1411 N. River Road\, Oregon\, IL
END:VEVENT
BEGIN:VTIMEZONE
TZID:America/Chicago
X-LIC-LOCATION:America/Chicago
BEGIN:DAYLIGHT
DTSTART:20250309T030000
TZOFFSETFROM:-0600
TZOFFSETTO:-0500
TZNAME:CDT
END:DAYLIGHT
END:VTIMEZONE
END:VCALENDAR