BEGIN:VCALENDAR
VERSION:2.0
PRODID:-//wp-events-plugin.com//7.2.3.1//EN
TZID:America/Chicago
X-WR-TIMEZONE:America/Chicago
BEGIN:VEVENT
UID:16@vwclub.org
DTSTART;TZID=America/Chicago:20250705T093000
DTEND;TZID=America/Chicago:20250705T150000
DTSTAMP:20250628T114512Z
URL:https://vwclub.org/events/annual-independence-day-parade/
SUMMARY:Annual Independence Day Parade
DESCRIPTION:Bartlett\, IL
END:VEVENT
BEGIN:VTIMEZONE
TZID:America/Chicago
X-LIC-LOCATION:America/Chicago
BEGIN:DAYLIGHT
DTSTART:20250309T030000
TZOFFSETFROM:-0600
TZOFFSETTO:-0500
TZNAME:CDT
END:DAYLIGHT
END:VTIMEZONE
END:VCALENDAR