BEGIN:VCALENDAR
VERSION:2.0
PRODID:-//wp-events-plugin.com//7.2.3.1//EN
TZID:America/Chicago
X-WR-TIMEZONE:America/Chicago
BEGIN:VEVENT
UID:22@vwclub.org
DTSTART;TZID=America/Chicago:20250817T080000
DTEND;TZID=America/Chicago:20250817T160000
DTSTAMP:20250629T191017Z
URL:https://vwclub.org/events/bi-state-vw-clubs-28th-annual-show-shine-pic
 nic/
SUMMARY:Bi-State VW Club’s 28th Annual Show & Shine Picnic
DESCRIPTION:Empire Park\, (on the Mississippi)\, Hampton\, IL (Quad Cities 
 area)
END:VEVENT
BEGIN:VTIMEZONE
TZID:America/Chicago
X-LIC-LOCATION:America/Chicago
BEGIN:DAYLIGHT
DTSTART:20250309T030000
TZOFFSETFROM:-0600
TZOFFSETTO:-0500
TZNAME:CDT
END:DAYLIGHT
END:VTIMEZONE
END:VCALENDAR