BEGIN:VCALENDAR
VERSION:2.0
PRODID:-//wp-events-plugin.com//7.2.3.1//EN
TZID:America/Chicago
X-WR-TIMEZONE:America/Chicago
BEGIN:VEVENT
UID:5@vwclub.org
DTSTART;TZID=America/Detroit:20250316T090000
DTEND;TZID=America/Detroit:20250316T143000
DTSTAMP:20250301T201418Z
URL:https://vwclub.org/events/michigan-buggy-builders-indoor-swap-meet/
SUMMARY:Michigan Buggy Builders Indoor Swap Meet
DESCRIPTION:Ingham County Fairgrounds\, 400 E. Ash St.\, Mason\, MI
END:VEVENT
BEGIN:VTIMEZONE
TZID:America/Detroit
X-LIC-LOCATION:America/Detroit
BEGIN:DAYLIGHT
DTSTART:20250309T030000
TZOFFSETFROM:-0500
TZOFFSETTO:-0400
TZNAME:EDT
END:DAYLIGHT
END:VTIMEZONE
END:VCALENDAR