BEGIN:VCALENDAR
VERSION:2.0
PRODID:-//wp-events-plugin.com//7.2.3.1//EN
TZID:America/Chicago
X-WR-TIMEZONE:America/Chicago
BEGIN:VEVENT
UID:3@vwclub.org
DTSTART;TZID=America/Chicago:20250323T130000
DTEND;TZID=America/Chicago:20250323T160000
DTSTAMP:20250301T201637Z
URL:https://vwclub.org/events/pizza-pizza-pizza-2/
SUMMARY:Pizza! Pizza! Pizza!
DESCRIPTION:Barnaby’s Family Inn\, 933 W. Rand Rd.\, Arlington Heights\, 
 IL
END:VEVENT
BEGIN:VTIMEZONE
TZID:America/Chicago
X-LIC-LOCATION:America/Chicago
BEGIN:DAYLIGHT
DTSTART:20250309T030000
TZOFFSETFROM:-0600
TZOFFSETTO:-0500
TZNAME:CDT
END:DAYLIGHT
END:VTIMEZONE
END:VCALENDAR