BEGIN:VCALENDAR
VERSION:2.0
PRODID:-//wp-events-plugin.com//7.2.3.1//EN
TZID:America/Chicago
X-WR-TIMEZONE:America/Chicago
BEGIN:VEVENT
UID:1@vwclub.org
DTSTART;TZID=America/Chicago:20250222T130000
DTEND;TZID=America/Chicago:20250222T160000
DTSTAMP:20250220T225745Z
URL:https://vwclub.org/events/sample-event/
SUMMARY:Klairmont Kollections Automotive Museum
DESCRIPTION:3117 N Knox Ave\, Chicago\, IL
END:VEVENT
BEGIN:VTIMEZONE
TZID:America/Chicago
X-LIC-LOCATION:America/Chicago
BEGIN:STANDARD
DTSTART:20241103T010000
TZOFFSETFROM:-0500
TZOFFSETTO:-0600
TZNAME:CST
END:STANDARD
END:VTIMEZONE
END:VCALENDAR